BEGIN:VCALENDAR
VERSION:2.0
CALSCALE:GREGORIAN
METHOD:PUBLISH
X-WR-TIMEZONE:Australia/Sydney
BEGIN:VTIMEZONE
TZID:Australia/Sydney
BEGIN:STANDARD
TZNAME:AEST
END:STANDARD
END:VTIMEZONE
BEGIN:VEVENT
DTSTART;TZID=Australia/Sydney:20180312T085000
DTEND;TZID=Australia/Sydney:20180312T151000
DTSTAMP:20260424T235700
UID:441
SUMMARY:PUBLIC HOLIDAY
DESCRIPTION:There is NO SCHOOL TODAY, Labour Day Public Holiday.
SEQUENCE:0
STATUS:CONFIRMED
TRANSP:OPAQUE
END:VEVENT
END:VCALENDAR